BEGIN:VCALENDAR
VERSION:2.0
PRODID:-//belgrade gets digital - ECPv6.15.20//NONSGML v1.0//EN
CALSCALE:GREGORIAN
METHOD:PUBLISH
X-WR-CALNAME:belgrade gets digital
X-ORIGINAL-URL:https://belgradegets.digital
X-WR-CALDESC:Events for belgrade gets digital
REFRESH-INTERVAL;VALUE=DURATION:PT1H
X-Robots-Tag:noindex
X-PUBLISHED-TTL:PT1H
BEGIN:VTIMEZONE
TZID:Europe/Belgrade
BEGIN:DAYLIGHT
TZOFFSETFROM:+0100
TZOFFSETTO:+0200
TZNAME:CEST
DTSTART:20210328T010000
END:DAYLIGHT
BEGIN:STANDARD
TZOFFSETFROM:+0200
TZOFFSETTO:+0100
TZNAME:CET
DTSTART:20211031T010000
END:STANDARD
BEGIN:DAYLIGHT
TZOFFSETFROM:+0100
TZOFFSETTO:+0200
TZNAME:CEST
DTSTART:20220327T010000
END:DAYLIGHT
BEGIN:STANDARD
TZOFFSETFROM:+0200
TZOFFSETTO:+0100
TZNAME:CET
DTSTART:20221030T010000
END:STANDARD
BEGIN:DAYLIGHT
TZOFFSETFROM:+0100
TZOFFSETTO:+0200
TZNAME:CEST
DTSTART:20230326T010000
END:DAYLIGHT
BEGIN:STANDARD
TZOFFSETFROM:+0200
TZOFFSETTO:+0100
TZNAME:CET
DTSTART:20231029T010000
END:STANDARD
END:VTIMEZONE
BEGIN:VEVENT
DTSTART;VALUE=DATE:20220513
DTEND;VALUE=DATE:20220516
DTSTAMP:20260420T004821
CREATED:20220808T120324Z
LAST-MODIFIED:20220808T140944Z
UID:990111908-1652400000-1652659199@belgradegets.digital
SUMMARY:Tomorrow Conference 2022
DESCRIPTION:The europe’s biggest nft – crypto event in this year organized in serbia’s capital. \nThis weekend Belgrade was the center of the crypto universe with inspiring guests and the program of the Tomorrow Conference – focusing on all topics regarding the blockchain and cryptocurrencies\, including mining\, investing and much more. \nRead more about this event.
URL:https://belgradegets.digital/event/tomorrow-conference-2022/
LOCATION:BELEXPOCENTAR\, Španskih boraca 74\, Belgrade\, 11070\, Serbia
ATTACH;FMTTYPE=image/jpeg:https://belgradegets.digital/wp-content/uploads/2022/08/280534036_146396427961078_2144848687374974059_n-2.jpeg
ORGANIZER;CN="Creative Media Art":MAILTO:info@tmrwconf.net
END:VEVENT
END:VCALENDAR